BEGIN:VCALENDAR
VERSION:2.0
PRODID:-//Shadow Hills Golf Club - South Course - ECPv6.15.18//NONSGML v1.0//EN
CALSCALE:GREGORIAN
METHOD:PUBLISH
X-ORIGINAL-URL:https://www.shadowhillsgolfclub.com
X-WR-CALDESC:Events for Shadow Hills Golf Club - South Course
REFRESH-INTERVAL;VALUE=DURATION:PT1H
X-Robots-Tag:noindex
X-PUBLISHED-TTL:PT1H
BEGIN:VTIMEZONE
TZID:America/Los_Angeles
BEGIN:DAYLIGHT
TZOFFSETFROM:-0800
TZOFFSETTO:-0700
TZNAME:PDT
DTSTART:20250309T100000
END:DAYLIGHT
BEGIN:STANDARD
TZOFFSETFROM:-0700
TZOFFSETTO:-0800
TZNAME:PST
DTSTART:20251102T090000
END:STANDARD
BEGIN:DAYLIGHT
TZOFFSETFROM:-0800
TZOFFSETTO:-0700
TZNAME:PDT
DTSTART:20260308T100000
END:DAYLIGHT
BEGIN:STANDARD
TZOFFSETFROM:-0700
TZOFFSETTO:-0800
TZNAME:PST
DTSTART:20261101T090000
END:STANDARD
BEGIN:DAYLIGHT
TZOFFSETFROM:-0800
TZOFFSETTO:-0700
TZNAME:PDT
DTSTART:20270314T100000
END:DAYLIGHT
BEGIN:STANDARD
TZOFFSETFROM:-0700
TZOFFSETTO:-0800
TZNAME:PST
DTSTART:20271107T090000
END:STANDARD
END:VTIMEZONE
BEGIN:VEVENT
DTSTART;TZID=America/Los_Angeles:20260514T073000
DTEND;TZID=America/Los_Angeles:20260514T073000
DTSTAMP:20260425T091538
CREATED:20260424T210041Z
LAST-MODIFIED:20260424T210041Z
UID:10000886-1778743800-1778743800@www.shadowhillsgolfclub.com
SUMMARY:Mens Day
DESCRIPTION:
URL:https://www.shadowhillsgolfclub.com/event/mens-day-10/
END:VEVENT
BEGIN:VEVENT
DTSTART;TZID=America/Los_Angeles:20260515T063000
DTEND;TZID=America/Los_Angeles:20260515T063000
DTSTAMP:20260425T091538
CREATED:20260424T210117Z
LAST-MODIFIED:20260424T210117Z
UID:10000887-1778826600-1778826600@www.shadowhillsgolfclub.com
SUMMARY:Ladys Club
DESCRIPTION:
URL:https://www.shadowhillsgolfclub.com/event/ladys-club-12/
END:VEVENT
BEGIN:VEVENT
DTSTART;TZID=America/Los_Angeles:20260515T123000
DTEND;TZID=America/Los_Angeles:20260515T123000
DTSTAMP:20260425T091538
CREATED:20260424T210226Z
LAST-MODIFIED:20260424T210226Z
UID:10000888-1778848200-1778848200@www.shadowhillsgolfclub.com
SUMMARY:Lady Niners  (North Course)
DESCRIPTION:
URL:https://www.shadowhillsgolfclub.com/event/lady-niners-north-course-2/
END:VEVENT
BEGIN:VEVENT
DTSTART;TZID=America/Los_Angeles:20260516T073000
DTEND;TZID=America/Los_Angeles:20260516T073000
DTSTAMP:20260425T091538
CREATED:20260424T210326Z
LAST-MODIFIED:20260424T210326Z
UID:10000889-1778916600-1778916600@www.shadowhillsgolfclub.com
SUMMARY:Sat Men Shotgun
DESCRIPTION:
URL:https://www.shadowhillsgolfclub.com/event/sat-men-shotgun-23/
END:VEVENT
BEGIN:VEVENT
DTSTART;TZID=America/Los_Angeles:20260518T060000
DTEND;TZID=America/Los_Angeles:20260518T060000
DTSTAMP:20260425T091538
CREATED:20260424T210457Z
LAST-MODIFIED:20260424T210606Z
UID:10000890-1779084000-1779084000@www.shadowhillsgolfclub.com
SUMMARY:South Course Closed till November 6th
DESCRIPTION:
URL:https://www.shadowhillsgolfclub.com/event/course-closed-till-november-6th/
END:VEVENT
END:VCALENDAR