BEGIN:VCALENDAR
VERSION:2.0
PRODID:-//Shadow Hills Golf Club - South Course - ECPv6.15.18//NONSGML v1.0//EN
CALSCALE:GREGORIAN
METHOD:PUBLISH
X-WR-CALNAME:Shadow Hills Golf Club - South Course
X-ORIGINAL-URL:https://www.shadowhillsgolfclub.com
X-WR-CALDESC:Events for Shadow Hills Golf Club - South Course
REFRESH-INTERVAL;VALUE=DURATION:PT1H
X-Robots-Tag:noindex
X-PUBLISHED-TTL:PT1H
BEGIN:VTIMEZONE
TZID:UTC
BEGIN:STANDARD
TZOFFSETFROM:+0000
TZOFFSETTO:+0000
TZNAME:UTC
DTSTART:20220101T000000
END:STANDARD
END:VTIMEZONE
BEGIN:VEVENT
DTSTART;VALUE=DATE:20230817
DTEND;VALUE=DATE:20230818
DTSTAMP:20260421T042830
CREATED:20230712T224633Z
LAST-MODIFIED:20230712T224633Z
UID:10000014-1692230400-1692316799@www.shadowhillsgolfclub.com
SUMMARY:South Course Closed Greens Aerification
DESCRIPTION:South Course Closed Greens Aerification
URL:https://www.shadowhillsgolfclub.com/event/south-course-closed-greens-aerification-10/
END:VEVENT
BEGIN:VEVENT
DTSTART;VALUE=DATE:20230816
DTEND;VALUE=DATE:20230817
DTSTAMP:20260421T042830
CREATED:20230712T224620Z
LAST-MODIFIED:20230712T224620Z
UID:10000013-1692144000-1692230399@www.shadowhillsgolfclub.com
SUMMARY:South Course Closed Greens Aerification
DESCRIPTION:South Course Closed Greens Aerification
URL:https://www.shadowhillsgolfclub.com/event/south-course-closed-greens-aerification-9/
END:VEVENT
BEGIN:VEVENT
DTSTART;VALUE=DATE:20230815
DTEND;VALUE=DATE:20230816
DTSTAMP:20260421T042830
CREATED:20230712T224608Z
LAST-MODIFIED:20230712T224608Z
UID:10000012-1692057600-1692143999@www.shadowhillsgolfclub.com
SUMMARY:South Course Closed Greens Aerification
DESCRIPTION:South Course Closed Greens Aerification
URL:https://www.shadowhillsgolfclub.com/event/south-course-closed-greens-aerification-8/
END:VEVENT
BEGIN:VEVENT
DTSTART;VALUE=DATE:20230721
DTEND;VALUE=DATE:20230722
DTSTAMP:20260421T042830
CREATED:20230712T224309Z
LAST-MODIFIED:20230712T224404Z
UID:10000007-1689897600-1689983999@www.shadowhillsgolfclub.com
SUMMARY:North Course Closed Greens Aerification
DESCRIPTION:North Course Closed Greens Aerification
URL:https://www.shadowhillsgolfclub.com/event/south-course-closed-greens-aerification-7/
END:VEVENT
BEGIN:VEVENT
DTSTART;VALUE=DATE:20230720
DTEND;VALUE=DATE:20230721
DTSTAMP:20260421T042830
CREATED:20230712T224258Z
LAST-MODIFIED:20230712T224414Z
UID:10000006-1689811200-1689897599@www.shadowhillsgolfclub.com
SUMMARY:North Course Closed Greens Aerification
DESCRIPTION:North Course Closed Greens Aerification
URL:https://www.shadowhillsgolfclub.com/event/south-course-closed-greens-aerification-6/
END:VEVENT
BEGIN:VEVENT
DTSTART;VALUE=DATE:20230719
DTEND;VALUE=DATE:20230720
DTSTAMP:20260421T042830
CREATED:20230712T224245Z
LAST-MODIFIED:20230712T224427Z
UID:10000005-1689724800-1689811199@www.shadowhillsgolfclub.com
SUMMARY:North Course Closed Greens Aerification
DESCRIPTION:North Course Closed Greens Aerification
URL:https://www.shadowhillsgolfclub.com/event/south-course-closed-greens-aerification-5/
END:VEVENT
BEGIN:VEVENT
DTSTART;VALUE=DATE:20230718
DTEND;VALUE=DATE:20230719
DTSTAMP:20260421T042830
CREATED:20230712T224231Z
LAST-MODIFIED:20230712T224453Z
UID:10000004-1689638400-1689724799@www.shadowhillsgolfclub.com
SUMMARY:North Course Closed Greens Aerification
DESCRIPTION:North Course Closed Greens Aerification
URL:https://www.shadowhillsgolfclub.com/event/south-course-closed-greens-aerification-4/
END:VEVENT
BEGIN:VEVENT
DTSTART;VALUE=DATE:20230714
DTEND;VALUE=DATE:20230715
DTSTAMP:20260421T042830
CREATED:20230712T224217Z
LAST-MODIFIED:20230712T224217Z
UID:10000003-1689292800-1689379199@www.shadowhillsgolfclub.com
SUMMARY:South Course Closed Greens Aerification
DESCRIPTION:South Course Closed Greens Aerification
URL:https://www.shadowhillsgolfclub.com/event/south-course-closed-greens-aerification-3/
END:VEVENT
BEGIN:VEVENT
DTSTART;VALUE=DATE:20230713
DTEND;VALUE=DATE:20230714
DTSTAMP:20260421T042830
CREATED:20230712T224152Z
LAST-MODIFIED:20230712T224152Z
UID:10000002-1689206400-1689292799@www.shadowhillsgolfclub.com
SUMMARY:South Course Closed Greens Aerification
DESCRIPTION:South Course Closed Greens Aerification
URL:https://www.shadowhillsgolfclub.com/event/south-course-closed-greens-aerification-2/
END:VEVENT
BEGIN:VEVENT
DTSTART;VALUE=DATE:20230712
DTEND;VALUE=DATE:20230713
DTSTAMP:20260421T042830
CREATED:20230712T224037Z
LAST-MODIFIED:20230712T224202Z
UID:10000001-1689120000-1689206399@www.shadowhillsgolfclub.com
SUMMARY:South Course Closed Greens Aerification
DESCRIPTION:South Course Closed Greens Aerification
URL:https://www.shadowhillsgolfclub.com/event/south-course-closed-greens-aerification/
END:VEVENT
END:VCALENDAR