BEGIN:VCALENDAR
VERSION:2.0
PRODID:-//Shadow Hills Golf Club - South Course - ECPv6.15.18//NONSGML v1.0//EN
CALSCALE:GREGORIAN
METHOD:PUBLISH
X-ORIGINAL-URL:https://www.shadowhillsgolfclub.com
X-WR-CALDESC:Events for Shadow Hills Golf Club - South Course
REFRESH-INTERVAL;VALUE=DURATION:PT1H
X-Robots-Tag:noindex
X-PUBLISHED-TTL:PT1H
BEGIN:VTIMEZONE
TZID:America/Los_Angeles
BEGIN:DAYLIGHT
TZOFFSETFROM:-0800
TZOFFSETTO:-0700
TZNAME:PDT
DTSTART:20250309T100000
END:DAYLIGHT
BEGIN:STANDARD
TZOFFSETFROM:-0700
TZOFFSETTO:-0800
TZNAME:PST
DTSTART:20251102T090000
END:STANDARD
BEGIN:DAYLIGHT
TZOFFSETFROM:-0800
TZOFFSETTO:-0700
TZNAME:PDT
DTSTART:20260308T100000
END:DAYLIGHT
BEGIN:STANDARD
TZOFFSETFROM:-0700
TZOFFSETTO:-0800
TZNAME:PST
DTSTART:20261101T090000
END:STANDARD
BEGIN:DAYLIGHT
TZOFFSETFROM:-0800
TZOFFSETTO:-0700
TZNAME:PDT
DTSTART:20270314T100000
END:DAYLIGHT
BEGIN:STANDARD
TZOFFSETFROM:-0700
TZOFFSETTO:-0800
TZNAME:PST
DTSTART:20271107T090000
END:STANDARD
END:VTIMEZONE
BEGIN:VEVENT
DTSTART;TZID=America/Los_Angeles:20260416T073000
DTEND;TZID=America/Los_Angeles:20260416T073000
DTSTAMP:20260425T032138
CREATED:20260320T181200Z
LAST-MODIFIED:20260320T181200Z
UID:10000857-1776324600-1776324600@www.shadowhillsgolfclub.com
SUMMARY:MENS CLUB
DESCRIPTION:
URL:https://www.shadowhillsgolfclub.com/event/mens-club-24/
END:VEVENT
BEGIN:VEVENT
DTSTART;TZID=America/Los_Angeles:20260416T133000
DTEND;TZID=America/Los_Angeles:20260416T133000
DTSTAMP:20260425T032138
CREATED:20260320T181254Z
LAST-MODIFIED:20260320T181254Z
UID:10000858-1776346200-1776346200@www.shadowhillsgolfclub.com
SUMMARY:PAIRS 9 NORTH
DESCRIPTION:
URL:https://www.shadowhillsgolfclub.com/event/pairs-9-north-2/
END:VEVENT
BEGIN:VEVENT
DTSTART;TZID=America/Los_Angeles:20260417T080000
DTEND;TZID=America/Los_Angeles:20260417T080000
DTSTAMP:20260425T032138
CREATED:20260320T181446Z
LAST-MODIFIED:20260320T181446Z
UID:10000859-1776412800-1776412800@www.shadowhillsgolfclub.com
SUMMARY:LADIES CLUB
DESCRIPTION:
URL:https://www.shadowhillsgolfclub.com/event/ladies-club-43/
END:VEVENT
BEGIN:VEVENT
DTSTART;TZID=America/Los_Angeles:20260417T123000
DTEND;TZID=America/Los_Angeles:20260417T123000
DTSTAMP:20260425T032138
CREATED:20260320T181559Z
LAST-MODIFIED:20260320T181559Z
UID:10000860-1776429000-1776429000@www.shadowhillsgolfclub.com
SUMMARY:CLASSY NINERS
DESCRIPTION:
URL:https://www.shadowhillsgolfclub.com/event/classy-niners-24/
END:VEVENT
BEGIN:VEVENT
DTSTART;TZID=America/Los_Angeles:20260418T073000
DTEND;TZID=America/Los_Angeles:20260418T073000
DTSTAMP:20260425T032138
CREATED:20260320T182709Z
LAST-MODIFIED:20260320T182709Z
UID:10000868-1776497400-1776497400@www.shadowhillsgolfclub.com
SUMMARY:SAT MEN  SHOTGUN
DESCRIPTION:
URL:https://www.shadowhillsgolfclub.com/event/sat-men-shotgun-20/
END:VEVENT
BEGIN:VEVENT
DTSTART;TZID=America/Los_Angeles:20260418T080000
DTEND;TZID=America/Los_Angeles:20260418T080000
DTSTAMP:20260425T032138
CREATED:20260320T181723Z
LAST-MODIFIED:20260320T181723Z
UID:10000861-1776499200-1776499200@www.shadowhillsgolfclub.com
SUMMARY:PAR 3 OUTING NORTH SHOTGUN
DESCRIPTION:
URL:https://www.shadowhillsgolfclub.com/event/par-3-outing-north-shotgun/
END:VEVENT
BEGIN:VEVENT
DTSTART;TZID=America/Los_Angeles:20260420T073000
DTEND;TZID=America/Los_Angeles:20260420T073000
DTSTAMP:20260425T032138
CREATED:20260320T182153Z
LAST-MODIFIED:20260320T182153Z
UID:10000862-1776670200-1776670200@www.shadowhillsgolfclub.com
SUMMARY:MONDAY MEN REVERSE GUN
DESCRIPTION:
URL:https://www.shadowhillsgolfclub.com/event/monday-men-reverse-gun-5/
END:VEVENT
BEGIN:VEVENT
DTSTART;TZID=America/Los_Angeles:20260421T073000
DTEND;TZID=America/Los_Angeles:20260421T073000
DTSTAMP:20260425T032138
CREATED:20260320T182226Z
LAST-MODIFIED:20260320T182226Z
UID:10000863-1776756600-1776756600@www.shadowhillsgolfclub.com
SUMMARY:CLASSY NINERS
DESCRIPTION:
URL:https://www.shadowhillsgolfclub.com/event/classy-niners-25/
END:VEVENT
BEGIN:VEVENT
DTSTART;TZID=America/Los_Angeles:20260422T080000
DTEND;TZID=America/Los_Angeles:20260422T080000
DTSTAMP:20260425T032138
CREATED:20260320T182259Z
LAST-MODIFIED:20260320T182259Z
UID:10000864-1776844800-1776844800@www.shadowhillsgolfclub.com
SUMMARY:LADIES DAY
DESCRIPTION:
URL:https://www.shadowhillsgolfclub.com/event/ladies-day-7/
END:VEVENT
BEGIN:VEVENT
DTSTART;TZID=America/Los_Angeles:20260423T073000
DTEND;TZID=America/Los_Angeles:20260423T073000
DTSTAMP:20260425T032138
CREATED:20260320T182333Z
LAST-MODIFIED:20260320T182333Z
UID:10000865-1776929400-1776929400@www.shadowhillsgolfclub.com
SUMMARY:MENS DAY
DESCRIPTION:
URL:https://www.shadowhillsgolfclub.com/event/mens-day-7/
END:VEVENT
BEGIN:VEVENT
DTSTART;TZID=America/Los_Angeles:20260424T080000
DTEND;TZID=America/Los_Angeles:20260424T080000
DTSTAMP:20260425T032138
CREATED:20260320T182511Z
LAST-MODIFIED:20260320T182511Z
UID:10000866-1777017600-1777017600@www.shadowhillsgolfclub.com
SUMMARY:LADIES TEAM PLAY EVENT
DESCRIPTION:
URL:https://www.shadowhillsgolfclub.com/event/ladies-team-play-event/
END:VEVENT
BEGIN:VEVENT
DTSTART;TZID=America/Los_Angeles:20260424T123000
DTEND;TZID=America/Los_Angeles:20260424T123000
DTSTAMP:20260425T032138
CREATED:20260320T182554Z
LAST-MODIFIED:20260320T182554Z
UID:10000867-1777033800-1777033800@www.shadowhillsgolfclub.com
SUMMARY:LADY NINERS
DESCRIPTION:
URL:https://www.shadowhillsgolfclub.com/event/lady-niners-44/
END:VEVENT
BEGIN:VEVENT
DTSTART;TZID=America/Los_Angeles:20260425T073000
DTEND;TZID=America/Los_Angeles:20260425T073000
DTSTAMP:20260425T032138
CREATED:20260320T182743Z
LAST-MODIFIED:20260320T182743Z
UID:10000869-1777102200-1777102200@www.shadowhillsgolfclub.com
SUMMARY:SAT MEN SHOTGUN
DESCRIPTION:
URL:https://www.shadowhillsgolfclub.com/event/sat-men-shotgun-21/
END:VEVENT
BEGIN:VEVENT
DTSTART;TZID=America/Los_Angeles:20260427T073000
DTEND;TZID=America/Los_Angeles:20260427T073000
DTSTAMP:20260425T032138
CREATED:20260320T182832Z
LAST-MODIFIED:20260320T182832Z
UID:10000870-1777275000-1777275000@www.shadowhillsgolfclub.com
SUMMARY:MONDAY MEN SHOTGUN
DESCRIPTION:
URL:https://www.shadowhillsgolfclub.com/event/monday-men-shotgun-14/
END:VEVENT
BEGIN:VEVENT
DTSTART;TZID=America/Los_Angeles:20260429T080000
DTEND;TZID=America/Los_Angeles:20260429T080000
DTSTAMP:20260425T032138
CREATED:20260320T182913Z
LAST-MODIFIED:20260320T182954Z
UID:10000871-1777449600-1777449600@www.shadowhillsgolfclub.com
SUMMARY:LADIES DAY
DESCRIPTION:
URL:https://www.shadowhillsgolfclub.com/event/classy-niners-26/
END:VEVENT
BEGIN:VEVENT
DTSTART;TZID=America/Los_Angeles:20260430T073000
DTEND;TZID=America/Los_Angeles:20260430T073000
DTSTAMP:20260425T032138
CREATED:20260320T183057Z
LAST-MODIFIED:20260320T183057Z
UID:10000872-1777534200-1777534200@www.shadowhillsgolfclub.com
SUMMARY:MENS DAY
DESCRIPTION:
URL:https://www.shadowhillsgolfclub.com/event/mens-day-8/
END:VEVENT
BEGIN:VEVENT
DTSTART;TZID=America/Los_Angeles:20260430T090000
DTEND;TZID=America/Los_Angeles:20260430T140000
DTSTAMP:20260425T032138
CREATED:20260320T183145Z
LAST-MODIFIED:20260320T183145Z
UID:10000873-1777539600-1777557600@www.shadowhillsgolfclub.com
SUMMARY:BRIDGESTONE FITTING 9-2
DESCRIPTION:
URL:https://www.shadowhillsgolfclub.com/event/bridgestone-fitting-9-2/
END:VEVENT
BEGIN:VEVENT
DTSTART;TZID=America/Los_Angeles:20260501T080000
DTEND;TZID=America/Los_Angeles:20260501T080000
DTSTAMP:20260425T032138
CREATED:20260121T230808Z
LAST-MODIFIED:20260121T230808Z
UID:10000788-1777622400-1777622400@www.shadowhillsgolfclub.com
SUMMARY:Flods of Honor
DESCRIPTION:Flods of Honor Charity Golf Tournament \nFriday\, May 1st\, 2026 \n8:00 AM Shotgun start \n$225 per player
URL:https://www.shadowhillsgolfclub.com/event/flods-of-honor/
ATTACH;FMTTYPE=image/png:https://www.shadowhillsgolfclub.com/wp-content/uploads/sites/9041/2026/01/folds-1.png
END:VEVENT
BEGIN:VEVENT
DTSTART;TZID=America/Los_Angeles:20260502T073000
DTEND;TZID=America/Los_Angeles:20260502T073000
DTSTAMP:20260425T032138
CREATED:20260424T204343Z
LAST-MODIFIED:20260424T204343Z
UID:10000874-1777707000-1777707000@www.shadowhillsgolfclub.com
SUMMARY:Sat. Men Shotgun
DESCRIPTION:
URL:https://www.shadowhillsgolfclub.com/event/sat-men-shotgun-22/
END:VEVENT
BEGIN:VEVENT
DTSTART;TZID=America/Los_Angeles:20260504T073000
DTEND;TZID=America/Los_Angeles:20260504T073000
DTSTAMP:20260425T032138
CREATED:20260424T204522Z
LAST-MODIFIED:20260424T204522Z
UID:10000875-1777879800-1777879800@www.shadowhillsgolfclub.com
SUMMARY:Monday Men Reverse Gun
DESCRIPTION:
URL:https://www.shadowhillsgolfclub.com/event/monday-men-reverse-gun-6/
END:VEVENT
BEGIN:VEVENT
DTSTART;TZID=America/Los_Angeles:20260505T073000
DTEND;TZID=America/Los_Angeles:20260505T073000
DTSTAMP:20260425T032138
CREATED:20260424T204616Z
LAST-MODIFIED:20260424T205755Z
UID:10000876-1777966200-1777966200@www.shadowhillsgolfclub.com
SUMMARY:Lady Niners Shotgun (North Course)
DESCRIPTION:
URL:https://www.shadowhillsgolfclub.com/event/lady-niners-shotgun-24/
END:VEVENT
BEGIN:VEVENT
DTSTART;TZID=America/Los_Angeles:20260506T073000
DTEND;TZID=America/Los_Angeles:20260506T073000
DTSTAMP:20260425T032138
CREATED:20260424T204739Z
LAST-MODIFIED:20260424T204739Z
UID:10000877-1778052600-1778052600@www.shadowhillsgolfclub.com
SUMMARY:Lady's Club
DESCRIPTION:
URL:https://www.shadowhillsgolfclub.com/event/ladys-club-9/
END:VEVENT
BEGIN:VEVENT
DTSTART;TZID=America/Los_Angeles:20260506T073000
DTEND;TZID=America/Los_Angeles:20260506T073000
DTSTAMP:20260425T032138
CREATED:20260424T204834Z
LAST-MODIFIED:20260424T204834Z
UID:10000878-1778052600-1778052600@www.shadowhillsgolfclub.com
SUMMARY:Stan Chevez Outing Shotgun
DESCRIPTION:
URL:https://www.shadowhillsgolfclub.com/event/stan-chevez-outing-shotgun/
END:VEVENT
BEGIN:VEVENT
DTSTART;TZID=America/Los_Angeles:20260507T073000
DTEND;TZID=America/Los_Angeles:20260507T073000
DTSTAMP:20260425T032138
CREATED:20260424T204957Z
LAST-MODIFIED:20260424T204957Z
UID:10000879-1778139000-1778139000@www.shadowhillsgolfclub.com
SUMMARY:Mens Day
DESCRIPTION:
URL:https://www.shadowhillsgolfclub.com/event/mens-day-9/
END:VEVENT
BEGIN:VEVENT
DTSTART;TZID=America/Los_Angeles:20260508T063000
DTEND;TZID=America/Los_Angeles:20260508T063000
DTSTAMP:20260425T032138
CREATED:20260424T205100Z
LAST-MODIFIED:20260424T205100Z
UID:10000880-1778221800-1778221800@www.shadowhillsgolfclub.com
SUMMARY:Lady's Club
DESCRIPTION:
URL:https://www.shadowhillsgolfclub.com/event/ladys-club-10/
END:VEVENT
BEGIN:VEVENT
DTSTART;TZID=America/Los_Angeles:20260508T123000
DTEND;TZID=America/Los_Angeles:20260508T123000
DTSTAMP:20260425T032138
CREATED:20260424T205234Z
LAST-MODIFIED:20260424T205234Z
UID:10000881-1778243400-1778243400@www.shadowhillsgolfclub.com
SUMMARY:Lady Niners ( North Course)
DESCRIPTION:
URL:https://www.shadowhillsgolfclub.com/event/lady-niners-north-course/
END:VEVENT
BEGIN:VEVENT
DTSTART;TZID=America/Los_Angeles:20260509T073000
DTEND;TZID=America/Los_Angeles:20260509T073000
DTSTAMP:20260425T032138
CREATED:20260424T205354Z
LAST-MODIFIED:20260424T205354Z
UID:10000882-1778311800-1778311800@www.shadowhillsgolfclub.com
SUMMARY:Men's Club
DESCRIPTION:
URL:https://www.shadowhillsgolfclub.com/event/mens-club-25/
END:VEVENT
BEGIN:VEVENT
DTSTART;TZID=America/Los_Angeles:20260511T073000
DTEND;TZID=America/Los_Angeles:20260511T073000
DTSTAMP:20260425T032138
CREATED:20260424T205517Z
LAST-MODIFIED:20260424T205517Z
UID:10000883-1778484600-1778484600@www.shadowhillsgolfclub.com
SUMMARY:Monday Men Reverse Gun
DESCRIPTION:
URL:https://www.shadowhillsgolfclub.com/event/monday-men-reverse-gun-7/
END:VEVENT
BEGIN:VEVENT
DTSTART;TZID=America/Los_Angeles:20260512T073000
DTEND;TZID=America/Los_Angeles:20260512T073000
DTSTAMP:20260425T032138
CREATED:20260424T205949Z
LAST-MODIFIED:20260424T205949Z
UID:10000885-1778571000-1778571000@www.shadowhillsgolfclub.com
SUMMARY:Lady Niners Shotgun (North Course)
DESCRIPTION:
URL:https://www.shadowhillsgolfclub.com/event/lady-niners-shotgun-north-course/
END:VEVENT
BEGIN:VEVENT
DTSTART;TZID=America/Los_Angeles:20260513T063000
DTEND;TZID=America/Los_Angeles:20260513T063000
DTSTAMP:20260425T032138
CREATED:20260424T205849Z
LAST-MODIFIED:20260424T205849Z
UID:10000884-1778653800-1778653800@www.shadowhillsgolfclub.com
SUMMARY:Lady's Club
DESCRIPTION:
URL:https://www.shadowhillsgolfclub.com/event/ladys-club-11/
END:VEVENT
END:VCALENDAR